BEGIN:VCALENDAR
VERSION:2.0
PRODID:-//wp-events-plugin.com//7.2.3.1//EN
TZID:America/Detroit
X-WR-TIMEZONE:America/Detroit
BEGIN:VEVENT
UID:5@ausablevalleyaudubon.org
DTSTART;TZID=America/Detroit:20241221T070000
DTEND;TZID=America/Detroit:20241221T160000
DTSTAMP:20241212T171332Z
URL:https://ausablevalleyaudubon.org/?event=christmas-bird-count-oscoda
SUMMARY:Christmas Bird Count - Oscoda
DESCRIPTION:\nThis event is a great chance to meet others and share your bi
 rd watching skills or learn more from experienced birders. The AuSable Val
 ley Audubon coordinates two “circles” and we will be out counting bird
 s on Wednesday the 18th and Saturday the 21st.\n\n\n\nOSCODA: Christmas bi
 rd count is December 21st for Oscoda.  Group will meet at Mama’s Kitc
 hen at 7:00 am and at Taits Bill of Fare for lunch at 12:30.\n\n\n\nIf you
  want to participate\, call Larry VanWagoner at 989-701-5470 to sign up.\n
 \n\n\nMore information can be found on our webpage under “initiatives“
 \n
LOCATION:Mama's Country Kitchen\, 884 South State Street\, Oscoda Twp\, Mic
 higan\, 48750\, United States
X-APPLE-STRUCTURED-LOCATION;VALUE=URI;X-ADDRESS=884 South State Street\, Os
 coda Twp\, Michigan\, 48750\, United States;X-APPLE-RADIUS=100;X-TITLE=Mam
 a's Country Kitchen:geo:0,0
END:VEVENT
BEGIN:VEVENT
UID:2@ausablevalleyaudubon.org
DTSTART;TZID=America/New_York;VALUE=DATE:20250516
DTEND;TZID=America/New_York;VALUE=DATE:20250518
DTSTAMP:20240810T212138Z
URL:https://ausablevalleyaudubon.org/?event=tawas-point-bird-migration-fes
 tival
SUMMARY:Tawas Point Bird Migration Festival
DESCRIPTION:Free Event\, but you must have a Michigan Recreation Passport -
 - or pay entry fee to get into the Park ($11/day)
LOCATION:Tawas Point State Park\, 686 Tawas Beach Rd\, East Tawas\, MI\, 48
 730\, Iosco County\, Michigan\, United States
X-APPLE-STRUCTURED-LOCATION;VALUE=URI;X-ADDRESS=686 Tawas Beach Rd\, East T
 awas\, MI\, 48730\, Iosco County\, Michigan\, United States;X-APPLE-RADIUS
 =100;X-TITLE=Tawas Point State Park:geo:0,0
END:VEVENT
BEGIN:VEVENT
UID:6@ausablevalleyaudubon.org
DTSTART;TZID=America/Detroit;VALUE=DATE:20260515
DTEND;TZID=America/Detroit;VALUE=DATE:20260517
DTSTAMP:20250514T194322Z
URL:https://ausablevalleyaudubon.org/?event=spring-bird-migration-festival
 -2026
SUMMARY:Spring Bird Migration Festival 2026
DESCRIPTION:
LOCATION:Tawas Point State Park\, 686 Tawas Beach Rd\, East Tawas\, MI\, 48
 730\, Iosco County\, Michigan\, United States
X-APPLE-STRUCTURED-LOCATION;VALUE=URI;X-ADDRESS=686 Tawas Beach Rd\, East T
 awas\, MI\, 48730\, Iosco County\, Michigan\, United States;X-APPLE-RADIUS
 =100;X-TITLE=Tawas Point State Park:geo:0,0
END:VEVENT
BEGIN:VTIMEZONE
TZID:America/Detroit
X-LIC-LOCATION:America/Detroit
BEGIN:STANDARD
DTSTART:20241103T010000
TZOFFSETFROM:-0400
TZOFFSETTO:-0500
TZNAME:EST
END:STANDARD
BEGIN:DAYLIGHT
DTSTART:20250309T030000
TZOFFSETFROM:-0500
TZOFFSETTO:-0400
TZNAME:EDT
END:DAYLIGHT
BEGIN:STANDARD
DTSTART:20251102T010000
TZOFFSETFROM:-0400
TZOFFSETTO:-0500
TZNAME:EST
END:STANDARD
BEGIN:DAYLIGHT
DTSTART:20260308T030000
TZOFFSETFROM:-0500
TZOFFSETTO:-0400
TZNAME:EDT
END:DAYLIGHT
END:VTIMEZONE
BEGIN:VTIMEZONE
TZID:America/New_York
X-LIC-LOCATION:America/New_York
BEGIN:DAYLIGHT
DTSTART:20250309T030000
TZOFFSETFROM:-0500
TZOFFSETTO:-0400
TZNAME:EDT
END:DAYLIGHT
END:VTIMEZONE
END:VCALENDAR